BEGIN:VCALENDAR
VERSION:2.0
PRODID:-//ChamberMaster//Event Calendar 2.0//EN
METHOD:PUBLISH
X-PUBLISHED-TTL:P3D
REFRESH-INTERVAL:P3D
CALSCALE:GREGORIAN
BEGIN:VEVENT
DTSTART:20191023T153000Z
DTEND:20191023T170000Z
X-MICROSOFT-CDO-ALLDAYEVENT:FALSE
SUMMARY:2019 Carmody Lunch
DESCRIPTION:Please Join Us for an Informal and Interactive Discussion on How these Laws Affect your Business and Steps you Need to Take Toward Compliance! Learn About New Employment Law Changes That Will Impact Every Employer & Every Employee!\n\n\n\nCompliance with federal and state wage and hour laws can be confusing for employers\, and mistakes can be costly.\n\n \n\n\n\nTopics Included Cover:\n\nNew FMLA laws\, probably the most significant workplace law that CT passed in decades. \n\nSweeping changes to sexual harassment training requirements.\n\nExpanded time periods for filing discrimination complaints.\n\nIncrease in the state's minimum wage.\n\n\n\nLunch will be included.
X-ALT-DESC;FMTTYPE=text/html:Please Join Us for an Informal and Interactive Discussion on How these Laws Affect your Business and Steps you Need to Take Toward Compliance! Learn About New Employment Law Changes That Will Impact Every Employer &amp\; Every Employee!<br />\n<br />\nCompliance with federal and state wage and hour laws can be confusing for employers\, and mistakes can be costly.<br />\n&nbsp\;<br />\n<br />\nTopics Included Cover:<br />\nNew FMLA laws\, probably the most significant workplace law that CT passed in decades.&nbsp\;<br />\nSweeping changes to sexual harassment training requirements.<br />\nExpanded time periods for filing discrimination complaints.<br />\nIncrease in the state&#39\;s minimum wage.<br />\n<br />\nLunch will be included.&nbsp\;
LOCATION:Carmody Torrence Sandak & Hennessy\, Stamford Office 707 Summer Street Stamford\, CT 06901
UID:e.3530.1869
SEQUENCE:3
DTSTAMP:20260425T023528Z
URL:https://members.stamfordchamber.com/events/details/2019-carmody-lunch-1869
END:VEVENT

END:VCALENDAR
