BEGIN:VCALENDAR
VERSION:2.0
PRODID:-//ChamberMaster//Event Calendar 2.0//EN
METHOD:PUBLISH
X-PUBLISHED-TTL:P3D
REFRESH-INTERVAL:P3D
CALSCALE:GREGORIAN
BEGIN:VEVENT
DTSTART:20201105T160000Z
DTEND:20201105T170000Z
X-MICROSOFT-CDO-ALLDAYEVENT:FALSE
SUMMARY:2020 State of the City Address
DESCRIPTION:2020 State of the City Address\n\nMayor David Martin
X-ALT-DESC;FMTTYPE=text/html:2020 State of the City Address<br />\nMayor David Martin
LOCATION:Hosted Virtually at Residence Inn by Marriott Stamford Downtown
UID:e.3530.1920
SEQUENCE:3
DTSTAMP:20260423T221938Z
URL:https://members.stamfordchamber.com/events/details/2020-state-of-the-city-address-1920
END:VEVENT

END:VCALENDAR
