BEGIN:VCALENDAR
VERSION:2.0
PRODID:-//ChamberMaster//Event Calendar 2.0//EN
METHOD:PUBLISH
X-PUBLISHED-TTL:P3D
REFRESH-INTERVAL:P3D
CALSCALE:GREGORIAN
BEGIN:VEVENT
DTSTART;VALUE=DATE:20220516
DTEND;VALUE=DATE:20220517
TRANSP:TRANSPARENT
X-MICROSOFT-CDO-ALLDAYEVENT:TRUE
SUMMARY:2022 Golf Tournament
DESCRIPTION:
X-ALT-DESC;FMTTYPE=text/html:
LOCATION:BUY RAFFLE TICKETS or MULLIGANS TODAY! Join us for our annual tournament! This year we will host it at E. Gaynor Brennan Golf Course with Lunch at Zody's 19th Hole. 7:00 am Registration/Breakfast 8:00 am Shotgun Start
UID:e.3530.2833
SEQUENCE:3
DTSTAMP:20260420T024830Z
URL:https://members.stamfordchamber.com/events/details/2022-golf-tournament-2833
END:VEVENT

END:VCALENDAR
