BEGIN:VCALENDAR
VERSION:2.0
PRODID:-//ChamberMaster//Event Calendar 2.0//EN
METHOD:PUBLISH
X-PUBLISHED-TTL:P3D
REFRESH-INTERVAL:P3D
CALSCALE:GREGORIAN
BEGIN:VEVENT
DTSTART:20190312T233000Z
DTEND:20190313T010000Z
X-MICROSOFT-CDO-ALLDAYEVENT:FALSE
SUMMARY:20th Legislative Breakfast
DESCRIPTION:
X-ALT-DESC;FMTTYPE=text/html:
LOCATION:Marriot
UID:e.3530.1142
SEQUENCE:3
DTSTAMP:20260425T203823Z
URL:https://members.stamfordchamber.com/events/details/20th-legislative-breakfast-03-12-2019-1142
END:VEVENT

END:VCALENDAR
