BEGIN:VCALENDAR
VERSION:2.0
PRODID:-//ChamberMaster//Event Calendar 2.0//EN
METHOD:PUBLISH
X-PUBLISHED-TTL:P3D
REFRESH-INTERVAL:P3D
CALSCALE:GREGORIAN
BEGIN:VEVENT
DTSTART:20211027T220000Z
DTEND:20211028T030000Z
X-MICROSOFT-CDO-ALLDAYEVENT:FALSE
SUMMARY:A Night of Pinot Noir! Wine Dinner
DESCRIPTION:Join us for a wine dinner pairing the many Pinot Noir expressions of Joseph Wagner and Copper Cane with WEG'S award winning cuisine.\n\n\n\nTO PURCHASE TICKETS Call:\n\n203.325.9979\n\n\n\nOctober 27\, 2021\n\nStarts at 6:00 pm.\n\nCost: $80 per person plus tax & gratuity\n\n\n\nWines served at the dinner will be available for purchase.
X-ALT-DESC;FMTTYPE=text/html:Join us for a wine dinner pairing the many Pinot Noir expressions of Joseph Wagner and Copper Cane with WEG&rsquo\;S award winning cuisine.<br />\n<br />\nTO PURCHASE TICKETS Call:<br />\n<a href="tel:203.325.9979">203.325.9979</a><br />\n<br />\nOctober 27\, 2021<br />\nStarts at 6:00 pm.<br />\nCost: $80 per person&nbsp\;plus tax &amp\; gratuity<br />\n<br />\nWines served at the dinner&nbsp\;will be available for purchase.
LOCATION:2748 BOSTON POST ROAD\, DARIEN CT 06820
UID:e.3530.2816
SEQUENCE:3
DTSTAMP:20260421T162227Z
URL:https://members.stamfordchamber.com/events/details/a-night-of-pinot-noir-wine-dinner-2816
END:VEVENT

END:VCALENDAR
