BEGIN:VCALENDAR
VERSION:2.0
PRODID:-//ChamberMaster//Event Calendar 2.0//EN
METHOD:PUBLISH
X-PUBLISHED-TTL:P3D
REFRESH-INTERVAL:P3D
CALSCALE:GREGORIAN
BEGIN:VEVENT
DTSTART:20211216T220000Z
DTEND:20211217T000000Z
X-MICROSOFT-CDO-ALLDAYEVENT:FALSE
SUMMARY:Apres Ski Holiday Party
DESCRIPTION:Eat Drink and Be Merry and our Apres Ski Holiday Party!\n\nIncludes two drinks and appetizers.
X-ALT-DESC;FMTTYPE=text/html:Eat Drink and Be Merry and our Apres Ski Holiday Party!<br />\nIncludes two drinks and appetizers.
LOCATION:Sign of the Whale 6 Harbor Point Road\, Stamford
UID:e.3530.2826
SEQUENCE:3
DTSTAMP:20260420T033629Z
URL:https://members.stamfordchamber.com/events/details/apres-ski-holiday-party-2826
END:VEVENT

END:VCALENDAR
