BEGIN:VCALENDAR
VERSION:2.0
PRODID:-//ChamberMaster//Event Calendar 2.0//EN
METHOD:PUBLISH
X-PUBLISHED-TTL:P3D
REFRESH-INTERVAL:P3D
CALSCALE:GREGORIAN
BEGIN:VEVENT
DTSTART:20220508T163000Z
DTEND:20220509T003000Z
X-MICROSOFT-CDO-ALLDAYEVENT:FALSE
SUMMARY:Celebrate Mother’s Day at The Waters Edge of Giovanni’s!
DESCRIPTION:Mother's Day is May 8th! After the gifts give her what she really wants a dinner at the WEG. We are offering a Prix Fixe menu of different entrees and our Giovanni's Signature dishes. We also have Junior Menu for the little ones. You won't want to miss our Special Mother's Day desserts and our great selection of wine.
X-ALT-DESC;FMTTYPE=text/html:<strong>Mother&rsquo\;s Day is May 8th!</strong> After the gifts give her what she really wants a dinner at the WEG. We are offering a Prix Fixe menu of different entrees and our Giovanni&#39\;s Signature dishes. We also have Junior Menu for the little ones. <em>You won&#39\;t want to miss our Special Mother&#39\;s Day desserts and our great selection of wine.</em>
LOCATION:2748 BOSTON POST ROAD\, DARIEN CT 06820
UID:e.3530.2880
SEQUENCE:3
DTSTAMP:20260420T030219Z
URL:https://members.stamfordchamber.com/events/details/celebrate-mother-s-day-at-the-waters-edge-of-giovanni-s-2880
END:VEVENT

END:VCALENDAR
