BEGIN:VCALENDAR
VERSION:2.0
PRODID:-//ChamberMaster//Event Calendar 2.0//EN
METHOD:PUBLISH
X-PUBLISHED-TTL:P3D
REFRESH-INTERVAL:P3D
CALSCALE:GREGORIAN
BEGIN:VEVENT
DTSTART:20210509T170000Z
DTEND:20210510T000000Z
X-MICROSOFT-CDO-ALLDAYEVENT:FALSE
SUMMARY:Celebrate your Mom this Mother’s Day at The Waters Edge at Giovanni’s..
DESCRIPTION:We are offering Delicious Mother's Day Specials along with your WEG favorites. Dine with us safely indoors or outdoors under our tent on the waterfront.\n\nCall to reserve at 203.325.9979.
X-ALT-DESC;FMTTYPE=text/html:<p>We are offering Delicious Mother&rsquo\;s Day Specials along with your WEG favorites. Dine with us safely indoors or outdoors under our tent on the waterfront.</p>\n\n<p>Call to reserve at <a href="tel:203.325.9979">203.325.9979</a>.</p>\n
LOCATION:2748 BOSTON POST ROAD\, DARIEN CT 06820
UID:e.3530.2784
SEQUENCE:3
DTSTAMP:20260422T114109Z
URL:https://members.stamfordchamber.com/events/details/celebrate-your-mom-this-mother-s-day-at-the-waters-edge-at-giovanni-s-2784
END:VEVENT

END:VCALENDAR
