BEGIN:VCALENDAR
VERSION:2.0
PRODID:-//ChamberMaster//Event Calendar 2.0//EN
METHOD:PUBLISH
X-PUBLISHED-TTL:P3D
REFRESH-INTERVAL:P3D
CALSCALE:GREGORIAN
BEGIN:VEVENT
DTSTART:20220428T220000Z
DTEND:20220429T010000Z
X-MICROSOFT-CDO-ALLDAYEVENT:FALSE
SUMMARY:City Chic Reimagined
DESCRIPTION:After a two-year hiatus\, Boys & Girls Club of Stamford's City Chic is finally back in-person - and for the first time\, it will be hosted at our Club in the new Gary Wendt Teen Center. Join us for cocktails\, bites\, and more as we honor Gary Wendt\, Clay Fowler\, and Genworth.
X-ALT-DESC;FMTTYPE=text/html:After a two-year hiatus\, Boys &amp\; Girls Club of Stamford&#39\;s City Chic is finally back in-person - and for the first time\, it will be hosted at our Club in the new Gary Wendt Teen Center. Join us for cocktails\, bites\, and more as we honor Gary Wendt\, Clay Fowler\, and Genworth.&nbsp\;
LOCATION:347 Stillwater Avenue Stamford\, CT 06902
UID:e.3530.2869
SEQUENCE:3
DTSTAMP:20260420T062423Z
URL:https://members.stamfordchamber.com/events/details/city-chic-reimagined-2869
END:VEVENT

END:VCALENDAR
