BEGIN:VCALENDAR
VERSION:2.0
PRODID:-//ChamberMaster//Event Calendar 2.0//EN
METHOD:PUBLISH
X-PUBLISHED-TTL:P3D
REFRESH-INTERVAL:P3D
CALSCALE:GREGORIAN
BEGIN:VEVENT
DTSTART:20201215T150000Z
DTEND:20201215T160000Z
X-MICROSOFT-CDO-ALLDAYEVENT:FALSE
SUMMARY:Coffee with the Greater NYC Chamber
DESCRIPTION:
X-ALT-DESC;FMTTYPE=text/html:
LOCATION:Virtually from your own home!
UID:e.3530.2728
SEQUENCE:3
DTSTAMP:20260423T162215Z
URL:https://members.stamfordchamber.com/events/details/coffee-with-the-greater-nyc-chamber-2728
END:VEVENT

END:VCALENDAR
