BEGIN:VCALENDAR
VERSION:2.0
PRODID:-//ChamberMaster//Event Calendar 2.0//EN
METHOD:PUBLISH
X-PUBLISHED-TTL:P3D
REFRESH-INTERVAL:P3D
CALSCALE:GREGORIAN
BEGIN:VEVENT
DTSTART:20220423T130000Z
DTEND:20220423T160000Z
X-MICROSOFT-CDO-ALLDAYEVENT:FALSE
SUMMARY:First County Bank Hosts Free Contactless Shredding Day
DESCRIPTION:Free contactless shredding event at First County Bank's Shippan Ave - Stamford location! Let us dispose of your documents securely and safely while you wait in the comfort of your car. \n\n \n\nEvent is open to the public.
X-ALT-DESC;FMTTYPE=text/html:<span style="font-family:helvetica\,sans-serif">Free contactless shredding event at First County Bank&rsquo\;s Shippan Ave - Stamford location! Let us dispose of your documents securely and safely while you wait in the comfort of your car. </span><br />\n&nbsp\;<br />\n<span style="font-family:helvetica\,sans-serif">Event is open to the public. </span>
LOCATION:First County Bank 637 Shippan Avenue Stamford\, CT 06902 (203) 462-3608
UID:e.3530.2871
SEQUENCE:3
DTSTAMP:20260420T063908Z
URL:https://members.stamfordchamber.com/events/details/first-county-bank-hosts-free-contactless-shredding-day-2871
END:VEVENT

END:VCALENDAR
