BEGIN:VCALENDAR
VERSION:2.0
PRODID:-//ChamberMaster//Event Calendar 2.0//EN
METHOD:PUBLISH
X-PUBLISHED-TTL:P3D
REFRESH-INTERVAL:P3D
CALSCALE:GREGORIAN
BEGIN:VEVENT
DTSTART:20190516T173000Z
DTEND:20190516T233000Z
X-MICROSOFT-CDO-ALLDAYEVENT:FALSE
SUMMARY:Golf Tournament 05/16/2019
DESCRIPTION:
X-ALT-DESC;FMTTYPE=text/html:
LOCATION:Sterling Farms
UID:e.3530.1143
SEQUENCE:3
DTSTAMP:20260425T152457Z
URL:https://members.stamfordchamber.com/events/details/golf-tournament-05-16-2019-05-16-2019-1143
END:VEVENT

END:VCALENDAR
