BEGIN:VCALENDAR
VERSION:2.0
PRODID:-//ChamberMaster//Event Calendar 2.0//EN
METHOD:PUBLISH
X-PUBLISHED-TTL:P3D
REFRESH-INTERVAL:P3D
CALSCALE:GREGORIAN
BEGIN:VEVENT
DTSTART:20260502T200000Z
DTEND:20260503T030000Z
X-MICROSOFT-CDO-ALLDAYEVENT:FALSE
SUMMARY:Grand Opening of Golf Lounge 18-Kentucky Derby Themed Party
DESCRIPTION:Celebrate the Grand Opening of Golf Lounge 18 in style at our Kentucky Derby Party. Swing in to watch the ponies run at Churchill Downs. \n\n	Free Golf all evening \n	Contests and prizes every hour\n	Best Dressed Award \n	One Month Membership Giveaway
X-ALT-DESC;FMTTYPE=text/html:Celebrate the Grand Opening of Golf Lounge 18 in style at our Kentucky Derby Party. Swing in to watch the ponies run at Churchill Downs.&nbsp\;\n<ul>\n	<li>Free Golf all evening&nbsp\;</li>\n	<li>Contests and prizes every hour</li>\n	<li>Best Dressed Award&nbsp\;</li>\n	<li>One Month Membership Giveaway</li>\n</ul>\n
LOCATION:Golf Lounge 18 355 Atlantic St Stamford\, CT
UID:e.3530.4614
SEQUENCE:3
DTSTAMP:20260420T163915Z
URL:https://members.stamfordchamber.com/events/details/grand-opening-of-golf-lounge-18-kentucky-derby-themed-party-4614
END:VEVENT

END:VCALENDAR
