BEGIN:VCALENDAR
VERSION:2.0
PRODID:-//ChamberMaster//Event Calendar 2.0//EN
METHOD:PUBLISH
X-PUBLISHED-TTL:P3D
REFRESH-INTERVAL:P3D
CALSCALE:GREGORIAN
BEGIN:VEVENT
DTSTART:20181218T220000Z
DTEND:20181219T000000Z
X-MICROSOFT-CDO-ALLDAYEVENT:FALSE
SUMMARY:Holiday Party
DESCRIPTION:
X-ALT-DESC;FMTTYPE=text/html:
LOCATION:County TV & Appliance2770 Summer Street Stamford\, CT 06905
UID:e.3530.1133
SEQUENCE:3
DTSTAMP:20260426T031404Z
URL:https://members.stamfordchamber.com/events/details/holiday-party-12-18-2018-1133
END:VEVENT

END:VCALENDAR
