BEGIN:VCALENDAR
VERSION:2.0
PRODID:-//ChamberMaster//Event Calendar 2.0//EN
METHOD:PUBLISH
X-PUBLISHED-TTL:P3D
REFRESH-INTERVAL:P3D
CALSCALE:GREGORIAN
BEGIN:VEVENT
DTSTART:20211208T220000Z
DTEND:20211213T045500Z
X-MICROSOFT-CDO-ALLDAYEVENT:FALSE
SUMMARY:Holiday Scavenger Hunt & Kickoff Event
DESCRIPTION:
X-ALT-DESC;FMTTYPE=text/html:
LOCATION:Enjoy your hunt! The Kick-Off Party is now sold out. Visit all of the participating establishments and collect the clues to complete hunt. Please be sure to check their websites for hours of operation. Send your photo with your hunt sheet by midnight on Sunday\, December 12\, and you'll be entered to win an awesome basket valued at over $400! Email it to kristen@rockpaperscissors.events Your photo will also be posted to the Wall of Fame at https://www.rockpaperscissors.events/ Here's how the hunt works! Each participant registers and receives the scavenger hunt map and list of participating businesses. Off you go! Visit the stops on the map anytime from Thursday\, December 9 through Sunday\, December 12 to find the hidden clues and solve the message. Send us a picture of you and your hunt map to be entered into a lottery to win a great gift basket with items from Taco Daddy\, The Lila Rose\, Pinstripes\, NBC Universal\, The Vital Strech. During your hunt\, think of holiday gift giving and purchase gift cards\, products\, and services to support the local business community. #stamfordshoplocal
UID:e.3530.2822
SEQUENCE:3
DTSTAMP:20260420T151921Z
URL:https://members.stamfordchamber.com/events/details/holiday-scavenger-hunt-kickoff-event-2822
END:VEVENT

END:VCALENDAR
