BEGIN:VCALENDAR
VERSION:2.0
PRODID:-//ChamberMaster//Event Calendar 2.0//EN
METHOD:PUBLISH
X-PUBLISHED-TTL:P3D
REFRESH-INTERVAL:P3D
CALSCALE:GREGORIAN
BEGIN:VEVENT
DTSTART;VALUE=DATE:20210913
DTEND;VALUE=DATE:20210914
TRANSP:TRANSPARENT
X-MICROSOFT-CDO-ALLDAYEVENT:TRUE
SUMMARY:ICON International Invitation at Quaker Ridge to benefit Boys & Girls Club of Stamford
DESCRIPTION:Register/Sponsor here: https://interland3.donorperfect.net/weblink/WebLink.aspx?name=E144619&id=66
X-ALT-DESC;FMTTYPE=text/html:Register/Sponsor here: https://interland3.donorperfect.net/weblink/WebLink.aspx?name=E144619&amp\;id=66
LOCATION:Quaker Ridge Golf Club
UID:e.3530.2806
SEQUENCE:3
DTSTAMP:20260420T153319Z
URL:https://members.stamfordchamber.com/events/details/icon-international-invitation-at-quaker-ridge-to-benefit-boys-girls-club-of-stamford-2806
END:VEVENT

END:VCALENDAR
