BEGIN:VCALENDAR
VERSION:2.0
PRODID:-//ChamberMaster//Event Calendar 2.0//EN
METHOD:PUBLISH
X-PUBLISHED-TTL:P3D
REFRESH-INTERVAL:P3D
CALSCALE:GREGORIAN
BEGIN:VEVENT
DTSTART:20220417T163000Z
DTEND:20220418T003000Z
X-MICROSOFT-CDO-ALLDAYEVENT:FALSE
SUMMARY:Join us for a Special Prix Fixe Easter Dinner at The Waters Edge at Giovanni's.
DESCRIPTION:Bring the whole family to the WEG and enjoy a Special Prix Fixe Easter Menu. We have a Special Menu for the children\, as well.\n\n \n\nEntrees include your choice of Appetizer\, WEG's Famous Garlic Bread\, Fresh Garden Salad\, served with the appropriate side dish\, Coffee and Dessert.\n\n \n\nWe look forward to spending Easter with you and your family.
X-ALT-DESC;FMTTYPE=text/html:Bring the whole family to the WEG and enjoy a Special Prix Fixe Easter Menu. We have a Special Menu for the children\, as well.<br />\n&nbsp\;<br />\nEntrees include your choice of Appetizer\, WEG&#39\;s Famous Garlic Bread\, Fresh Garden Salad\, served with the appropriate side dish\, Coffee and Dessert.<br />\n&nbsp\;<br />\nWe look forward to spending Easter with you and your family.
LOCATION:2748 BOSTON POST ROAD\, DARIEN CT 06820
UID:e.3530.2861
SEQUENCE:3
DTSTAMP:20260420T080437Z
URL:https://members.stamfordchamber.com/events/details/join-us-for-a-special-prix-fixe-easter-dinner-at-the-waters-edge-at-giovanni-s-2861
END:VEVENT

END:VCALENDAR
