BEGIN:VCALENDAR
VERSION:2.0
PRODID:-//ChamberMaster//Event Calendar 2.0//EN
METHOD:PUBLISH
X-PUBLISHED-TTL:P3D
REFRESH-INTERVAL:P3D
CALSCALE:GREGORIAN
BEGIN:VEVENT
DTSTART;VALUE=DATE:20211112
DTEND;VALUE=DATE:20211204
TRANSP:TRANSPARENT
X-MICROSOFT-CDO-ALLDAYEVENT:TRUE
SUMMARY:Presales Anytime Fitness Stamford
DESCRIPTION:Anytime Fitness Stamford is opening in December at 838 Highridge Rd there is still time to become a founding member at a reduced rate and over $800 in savings contact Melissa for a tour and to lock in your rate.
X-ALT-DESC;FMTTYPE=text/html:<span style="color:#800080">Anytime Fitness Stamford is opening in December at 838 Highridge Rd there is still time to become a founding member at a reduced rate and over $800 in savings contact Melissa for a tour and to lock in your rate.</span>
LOCATION:838 Highridge Rd Stamford
UID:e.3530.2824
SEQUENCE:3
DTSTAMP:20260420T153540Z
URL:https://members.stamfordchamber.com/events/details/presales-anytime-fitness-stamford-2824
END:VEVENT

END:VCALENDAR
