BEGIN:VCALENDAR
VERSION:2.0
PRODID:-//ChamberMaster//Event Calendar 2.0//EN
METHOD:PUBLISH
X-PUBLISHED-TTL:P3D
REFRESH-INTERVAL:P3D
CALSCALE:GREGORIAN
BEGIN:VEVENT
DTSTART:20220623T213000Z
DTEND:20220624T000000Z
X-MICROSOFT-CDO-ALLDAYEVENT:FALSE
SUMMARY:Soundwaters HYPE Cruise
DESCRIPTION:Come aboard the SoundWaters\, a three-masted schooner styled after a 19th century Chesapeake Bay sharpie schooner.  Enjoy a brilliant sunset on Long Island Sound\, from the deck of this 80-foot sailing vessel!
X-ALT-DESC;FMTTYPE=text/html:Come aboard the SoundWaters\, a three-masted schooner styled after a 19th century Chesapeake Bay sharpie schooner.&nbsp\; Enjoy a brilliant sunset on Long Island Sound\, from the deck of this 80-foot sailing vessel!
LOCATION:Schooner leaves PROMPTLY at 6:00pm from 200 Southfield Avenue Boccuzzi at Southfield Park\, Stamford Boarding: 5:30 - 5:50pm Sailing: 6:00 - 8:00 pm ONLY 40 SPACES - REGISTER EARLY!
UID:e.3530.2868
SEQUENCE:3
DTSTAMP:20260419T230549Z
URL:https://members.stamfordchamber.com/events/details/soundwaters-hype-cruise-2868
END:VEVENT

END:VCALENDAR
