BEGIN:VCALENDAR
VERSION:2.0
PRODID:-//ChamberMaster//Event Calendar 2.0//EN
METHOD:PUBLISH
X-PUBLISHED-TTL:P3D
REFRESH-INTERVAL:P3D
CALSCALE:GREGORIAN
BEGIN:VEVENT
DTSTART;VALUE=DATE:20210517
DTEND;VALUE=DATE:20210522
TRANSP:TRANSPARENT
X-MICROSOFT-CDO-ALLDAYEVENT:TRUE
SUMMARY:Stamford Boys & Girls Club Virtual Corporate 5K and Miles Challenge
DESCRIPTION:Companies and individuals compete to run or walk the most miles throughout race week. \n\n\n\nTracking platform (SODISP) syncs to your Strava\, Garmin\, or Fitbit accounts. \n\n\n\nRunning shirt and bib mailed to your home or office.\n\n\n\nFresh air\, friendly competition\, fun!
X-ALT-DESC;FMTTYPE=text/html:Companies and individuals compete to run or walk the most miles throughout race week.&nbsp\;<br />\n<br />\nTracking platform (SODISP) syncs to your Strava\, Garmin\, or Fitbit accounts.&nbsp\;<br />\n<br />\nRunning shirt and bib mailed to your home or office.<br />\n<br />\nFresh air\, friendly competition\, fun!&nbsp\;
LOCATION:Time and place of your choosing during May 17-21.
UID:e.3530.2771
SEQUENCE:3
DTSTAMP:20260422T113245Z
URL:https://members.stamfordchamber.com/events/details/stamford-boys-girls-club-virtual-corporate-5k-and-miles-challenge-2771
END:VEVENT

END:VCALENDAR
