BEGIN:VCALENDAR
VERSION:2.0
PRODID:-//ChamberMaster//Event Calendar 2.0//EN
METHOD:PUBLISH
X-PUBLISHED-TTL:P3D
REFRESH-INTERVAL:P3D
CALSCALE:GREGORIAN
BEGIN:VEVENT
DTSTART:20210822T150000Z
DTEND:20210822T200000Z
X-MICROSOFT-CDO-ALLDAYEVENT:FALSE
SUMMARY:Synergy1Holdings in Collaboration with BlackRoads Auto Club Present " Cruising Stamford" Vintage Car Show
DESCRIPTION:Synergy1holdings in collaboration with BlackRoads Auto Club\n\nPresents\n\nCruising For Stamford\n\nA Pure Classic Car Show\n\nCars Early 80's and Older\n\nSUNDAY\, AUGUST 22\n\nFrom 11:00am - 4:00pm\n\nAt Downtown Stamford: Columbus Park to Veterans Park\n\nA MUST-SEE EVENT FOR THE CLASSIC CAR ENTHUSIASTS\n\nIN THE TRISTATE AREA\n\nPowered by 1st bank of Greenwich\n\nCar Pre-registration required
X-ALT-DESC;FMTTYPE=text/html:<p style="text-align:center"><em>Synergy1holdings in collaboration with BlackRoads Auto Club</em></p>\n\n<p style="text-align:center"><em>Presents</em></p>\n\n<p style="text-align:center"><em>Cruising For Stamford</em></p>\n\n<p style="text-align:center"><em>A Pure Classic Car Show</em></p>\n\n<p style="text-align:center"><strong>Cars Early 80&#39\;s and Older</strong></p>\n\n<p style="text-align:center"><em>SUNDAY\, AUGUST 22</em></p>\n\n<p style="text-align:center"><em>From 11:00am - 4:00pm</em></p>\n\n<p style="text-align:center"><em>At Downtown Stamford: Columbus Park to Veterans Park</em></p>\n\n<p style="text-align:center"><em>A MUST-SEE EVENT FOR THE CLASSIC CAR ENTHUSIASTS</em></p>\n\n<p style="text-align:center"><em>IN THE TRISTATE AREA</em></p>\n\n<p style="text-align:center"><em>Powered by 1st bank of Greenwich</em></p>\n\n<p style="text-align:center"><em>Car Pre-registration required</em></p>\n\n<div>&nbsp\;</div>\n
LOCATION:At Downtown Stamford: Columbus Park to Veterans Park
UID:e.3530.2801
SEQUENCE:3
DTSTAMP:20260422T061849Z
URL:https://members.stamfordchamber.com/events/details/synergy1holdings-in-collaboration-with-blackroads-auto-club-present-cruising-stamford-vintage-car-show-2801
END:VEVENT

END:VCALENDAR
