BEGIN:VCALENDAR
VERSION:2.0
PRODID:-//ChamberMaster//Event Calendar 2.0//EN
METHOD:PUBLISH
X-PUBLISHED-TTL:P3D
REFRESH-INTERVAL:P3D
CALSCALE:GREGORIAN
BEGIN:VEVENT
DTSTART:20211028T200000Z
DTEND:20211029T000000Z
X-MICROSOFT-CDO-ALLDAYEVENT:FALSE
SUMMARY:The Vital Stretch - Grand Opening Celebration!
DESCRIPTION:The Vital Stretch invites you to their Grand Opening Celebration!\n\nEnjoy complimentary food\, drinks\, music\, giveaways and raffle prizes.\n\nOffering FREE Stretches and the opportunity to to try our Recovery Hub Enhancements. \n\n\n\nGrand Opening Special Offer:\n\n$29 for a FULL HOUR of service\n\n(Must be scheduled prior to 10/28) \n\n(203) 989-4141
X-ALT-DESC;FMTTYPE=text/html:<p style="text-align:center"><span style="background-color:transparent\; color:rgb(0\, 0\, 0)\; font-family:arial\; font-size:12pt">The Vital Stretch invites you to their Grand Opening Celebration!</span></p>\n\n<p style="text-align:center"><span style="background-color:transparent\; color:rgb(0\, 0\, 0)\; font-family:arial\; font-size:12pt">Enjoy complimentary food\, drinks\, music\, giveaways and raffle prizes.</span></p>\n\n<p style="text-align:center"><span style="background-color:transparent\; color:rgb(0\, 0\, 0)\; font-family:arial\; font-size:12pt">Offering FREE Stretches and the opportunity to to try our Recovery Hub Enhancements.&nbsp\;<br />\n<br />\n<span style="font-size:12px"><strong>Grand Opening Special Offer:</strong><br />\n$29 for a FULL HOUR of service<br />\n(Must be scheduled prior to 10/28)</span></span><span style="font-size:12px"><span style="background-color:transparent\; color:rgb(0\, 0\, 0)\; font-family:arial">&nbsp\;<br />\n(203) 989-4141</span></span></p>\n
LOCATION:Inside mActivity Harbor Point 150 Washington Blvd\, Stamford\, CT 06902
UID:e.3530.2815
SEQUENCE:3
DTSTAMP:20260421T182631Z
URL:https://members.stamfordchamber.com/events/details/the-vital-stretch-grand-opening-celebration-2815
END:VEVENT

END:VCALENDAR
