BEGIN:VCALENDAR
VERSION:2.0
PRODID:-//ChamberMaster//Event Calendar 2.0//EN
METHOD:PUBLISH
X-PUBLISHED-TTL:P3D
REFRESH-INTERVAL:P3D
CALSCALE:GREGORIAN
BEGIN:VEVENT
DTSTART:20201219T050000Z
DTEND:20201231T050000Z
X-MICROSOFT-CDO-ALLDAYEVENT:FALSE
SUMMARY:The Waters Edge at Giovanni's - New Year's Eve your way!
DESCRIPTION:Dine at home and choose your favorite dinner from our Holidays at Home menu. It's for any Holiday Occasion including Christmas and New Year's Eve to serve to your family and guest. Orders must be placed 3 days before pick-up.\n\n\n\nOr Dine with us. We are fortunate enough to have a large space for social distancing. \n\nWe are open New Year's Eve from 4:00 to 9:00. Would you like to get your family out of the house during the holiday season? Did you know that you can book one of our small intimate event spaces for a family get together that we know will bring joy and memories for years to come.\n\n \n\nWe here at WEG put your safety first. We are trained in and practice all Covid-19 food processing protocols. Because of our high ceiling and large open air concepts not to mention the Hepa air filtration rest assured we are going to whatever lengths it takes to insure you have a healthy experience when you choose us.\n\nOur Staff misses you and looks forward to seeing you soon.\n\n\n\nView our Holidays at Home Menu: https://www.watersedgeatgiovannis.com/holiday-at-home-menu-2020/\n\n\n\nTo place an order for Holidays at Home or to make a reservation or book a room for Christmas Eve or New Year's Eve call 203.325.9979.
X-ALT-DESC;FMTTYPE=text/html:Dine at home and choose your favorite dinner from our Holidays at Home menu. It&#39\;s for any Holiday Occasion including Christmas and New Year&rsquo\;s Eve to serve to your family and guest. Orders must be placed 3 days before pick-up.<br />\n<br />\n<strong>Or Dine with us. We are fortunate enough to have a large space for social distancing.&nbsp\;</strong><br />\nWe are open New Year&#39\;s Eve from 4:00 to 9:00.&nbsp\;Would you like to get your family out of the house during the holiday season?&nbsp\;Did you know that you can book one of our small intimate event spaces for a family get together that we know will bring joy and memories for years to come.<br />\n&nbsp\;<br />\nWe here at WEG put your safety first.&nbsp\;We are trained in and practice&nbsp\;all Covid-19 food processing protocols. Because of our high ceiling and large open air concepts not to mention the Hepa air filtration rest assured we are going to whatever lengths it takes to insure you have a healthy experience when you choose us.<br />\nOur Staff misses you and looks forward to seeing you soon.<br />\n<br />\nView our Holidays at Home Menu:&nbsp\;https://www.watersedgeatgiovannis.com/holiday-at-home-menu-2020/<br />\n<br />\nTo place an order for Holidays at Home or to make a reservation or book a room for Christmas Eve or New Year&rsquo\;s Eve call <a href="tel:203.325.9979">203.325.9979</a>.
LOCATION:2748 BOSTON POST ROAD\, DARIEN CT 06820
UID:e.3530.2736
SEQUENCE:3
DTSTAMP:20260423T160448Z
URL:https://members.stamfordchamber.com/events/details/the-waters-edge-at-giovanni-s-do-christmas-and-new-year-s-eve-your-way-2736
END:VEVENT

END:VCALENDAR
