BEGIN:VCALENDAR
VERSION:2.0
PRODID:-//ChamberMaster//Event Calendar 2.0//EN
METHOD:PUBLISH
X-PUBLISHED-TTL:P3D
REFRESH-INTERVAL:P3D
CALSCALE:GREGORIAN
BEGIN:VEVENT
DTSTART:20210330T220000Z
DTEND:20210331T030000Z
X-MICROSOFT-CDO-ALLDAYEVENT:FALSE
SUMMARY:The Waters Edge at Giovanni's Outdoor Film Festival Starts March 30th.
DESCRIPTION:Get ready to get out and have some fun! March 30th we will be kicking off our Drive-In Film Festival on the waterfront with Casablanca and running through the summer. Gates Open: 6:00 pm and the Show Starts: 7:30 pm. Price is $35 per car. Drinks and food available for purchase*. Large Format Screen with FM Sound - Supplied by James Daniel Entertainment\, AV\, Event Lighting & Casinos.\n\nUpcoming Movies\n\nGoonies - April 6th\n\nFirst Wives Club - April 13th
X-ALT-DESC;FMTTYPE=text/html:<span style="color:#050505"><span style="font-family:segoe ui\,sans-serif"><span style="font-size:11.5pt"><strong>Get ready to get out and have some fun!</strong> March 30th we will be kicking off our Drive-In Film Festival on the waterfront with Casablanca and running through the summer. Gates Open: 6:00 pm and the Show Starts: 7:30 pm. Price is $35 per car. Drinks and food available for purchase*. Large Format Screen with FM Sound - Supplied by James Daniel Entertainment\, AV\, Event Lighting &amp\; Casinos.</span></span></span><br />\n<strong><span style="color:#050505"><span style="font-family:segoe ui\,sans-serif"><span style="font-size:11.5pt">Upcoming Movies</span></span></span></strong><br />\nGoonies - April 6th<br />\nFirst Wives Club - April 13th<br />\n&nbsp\;
LOCATION:2748 BOSTON POST ROAD\, DARIEN CT 06820
UID:e.3530.2767
SEQUENCE:3
DTSTAMP:20260422T202930Z
URL:https://members.stamfordchamber.com/events/details/the-waters-edge-at-giovanni-s-outdoor-film-festival-starts-march-30th-2767
END:VEVENT

END:VCALENDAR
