BEGIN:VCALENDAR
VERSION:2.0
PRODID:-//ChamberMaster//Event Calendar 2.0//EN
METHOD:PUBLISH
X-PUBLISHED-TTL:P3D
REFRESH-INTERVAL:P3D
CALSCALE:GREGORIAN
BEGIN:VEVENT
DTSTART:20220331T223000Z
DTEND:20220401T030000Z
X-MICROSOFT-CDO-ALLDAYEVENT:FALSE
SUMMARY:WhistlePig Rye curated 4-course dinner at the WEG.
DESCRIPTION:Join us for a 4-course WhistlePig rye whiskey tasting dinner\, featuring \n\n4 different WhistlePig expressions paired with WhistlePig-inspired dishes.\n\n \n\nMarch 31st @ 6:30 PM\n\nLimited Seating\n\n$85 per person (plus service charge\, tax and fees)\n\n \n\nCourses will all be with spirit served neat with ice on the side:\n\nPiggyback 6 yr Rye\n\nWhistlepig Farmstock Rye\n\nWhistlepig 10 yr Rye\n\nWhistlepig 12 yr Old world cask Finish\n\n \n\nAbout WhistlePig: WhistlePig is the world's most awarded Rye Whiskey and for good reason. They took an unloved grain\, falling out of favor post-Prohibition\, and added a dedicated band of Rye enthusiasts to bring it back to life.  With a clear vision to reinvent Rye Whiskey\, they went off the grid\, to build whiskey our own way in Shoreham\, Vermont\, USA.
X-ALT-DESC;FMTTYPE=text/html:Join us for a 4-course WhistlePig rye whiskey tasting dinner\, featuring&nbsp\;<br />\n4 different WhistlePig expressions paired with WhistlePig-inspired dishes.<br />\n&nbsp\;<br />\nMarch 31st @ 6:30 PM<br />\nLimited Seating<br />\n$85 per person (plus service charge\, tax and fees)<br />\n&nbsp\;<br />\n<strong>Courses will all be with spirit served neat with ice on the side:</strong><br />\nPiggyback 6 yr Rye<br />\nWhistlepig Farmstock Rye<br />\nWhistlepig 10 yr Rye<br />\nWhistlepig 12 yr Old world cask Finish<br />\n&nbsp\;<br />\n<em><strong>About WhistlePig: </strong></em>WhistlePig is the world&rsquo\;s most awarded Rye Whiskey and for good reason. They took an unloved grain\, falling out of favor post-Prohibition\, and added a dedicated band of Rye enthusiasts to bring it back to life.&nbsp\;&nbsp\;With a clear vision to reinvent Rye Whiskey\, they went off the grid\, to build whiskey our own way in Shoreham\, Vermont\, USA.
LOCATION:2748 BOSTON POST ROAD\, DARIEN CT 06820
UID:e.3530.2860
SEQUENCE:3
DTSTAMP:20260420T074912Z
URL:https://members.stamfordchamber.com/events/details/whistlepig-rye-curated-4-course-dinner-at-the-weg-2860
END:VEVENT

END:VCALENDAR
